BEGIN:VCALENDAR
VERSION:2.0
PRODID:-//ChamberMaster//Event Calendar 2.0//EN
METHOD:PUBLISH
X-PUBLISHED-TTL:P3D
REFRESH-INTERVAL:P3D
CALSCALE:GREGORIAN
BEGIN:VEVENT
DTSTART:20210316T180000Z
DTEND:20210316T070000Z
X-MICROSOFT-CDO-ALLDAYEVENT:FALSE
SUMMARY:Attorney Forum
DESCRIPTION:Attorneys Only Please\n\n\n\nCLICK HERE TO REGISTER
X-ALT-DESC;FMTTYPE=text/html:<span style="font-size:20px\;"><span style="font-family:tahoma\;">Attorneys Only Please</span></span><br />\n<br />\n<strong><a href="https://us02web.zoom.us/meeting/register/tZItduGpqTkjGdxlFth7LFkEAqRSTihiv3pb"><span style="font-size:20px\;">CLICK HERE TO REGISTER</span></a></strong><br />\n&nbsp\;
LOCATION:
UID:e.2747.6466
SEQUENCE:3
DTSTAMP:20260423T083822Z
URL:https://www.calabasaschamber.com/events/details/attorney-forum-03-16-2021-6466
END:VEVENT

END:VCALENDAR
