BEGIN:VCALENDAR
VERSION:2.0
PRODID:-//ChamberMaster//Event Calendar 2.0//EN
METHOD:PUBLISH
X-PUBLISHED-TTL:P3D
REFRESH-INTERVAL:P3D
CALSCALE:GREGORIAN
BEGIN:VEVENT
DTSTART:20180308T151500Z
DTEND:20180308T170000Z
X-MICROSOFT-CDO-ALLDAYEVENT:FALSE
SUMMARY:Business @ Breakfast
DESCRIPTION:Please join us for a Candidates Forum Panel\n\nAssembly District 45  8:30-9:30am\n\nRaymond Bishop\, Daniel Brin\, Jesse Gabriel\, Ankur Patel\, Tricia Robbins Kasson\n\n \n\nBreakfast sponsored by: Inspired By Yolanda Marie Inc. \n\nInspired By Yolanda Marie is a Personal Style/Lifestyle Transformation company that creates a bridge for success through personal style and lifestyle. Transform Your style\, Transform Your Life!\n\n\n\nBreakfast will be held at the Calabasas Country Club\, the address is as follows:   4515 Park Entrada\, Calabasas\, 91302.  The breakfast will begin at 7:15am and come to a close at 9:00am.  The dress is business attire and during the breakfast everyone is allotted a moment to stand up\, introduced themselves as well as their company affiliation/ business.  Make sure to bring lots of business cards to hand out as well as your marketing material to display on the marketing tables.  Hope to see you there!
X-ALT-DESC;FMTTYPE=text/html:<span style="color:#000000\;"><strong>Please join us for a Candidates Forum Panel</strong><br />\n<strong>Assembly District 45&nbsp\; 8:30-9:30am</strong><br />\n<strong>Raymond Bishop\, Daniel Brin\, Jesse Gabriel\, Ankur Patel\, Tricia Robbins Kasson</strong><br />\n&nbsp\;<br />\n<strong><u><span style="font-family:arial\,sans-serif\;"><span style="font-size:10.5pt\;">Breakfast sponsored by:&nbsp\;Inspired By Yolanda Marie Inc.&nbsp\;</span></span></u></strong><br />\n<span style="font-family:arial\,sans-serif\;"><span style="font-size:10.5pt\;">Inspired By Yolanda Marie is a Personal Style/Lifestyle Transformation company that creates a bridge for success through personal style and lifestyle. Transform Your style\, Transform Your Life!<br />\n<br />\nBreakfast will be held at the Calabasas Country Club\, the address is as follows:&nbsp\;&nbsp\; 4515 Park Entrada\, Calabasas\, 91302.&nbsp\; The breakfast will begin at 7:<span data-scayt-lang="en_US" data-scayt-word="15am" style="background-position-x:52%\;background-position-y:100%\;">15am</span></span>&nbsp\;and come to a close at 9:<span data-scayt-lang="en_US" data-scayt-word="00am" style="background-position-x:52%\;background-position-y:100%\;">00am</span></span>.&nbsp\; The dress is business attire and during the breakfast everyone is allotted a moment to stand up\, introduced themselves as well as their company affiliation/ business. &nbsp\;Make sure to bring lots of business cards to hand out as well as your marketing material to display on the marketing tables. &nbsp\;Hope to see you there!&nbsp\;</span><br />\n&nbsp\;
LOCATION:Calabasas Country Club: 4515 Park Entrada\, Calabasas\, 91302
UID:e.2747.1548
SEQUENCE:3
DTSTAMP:20260420T232631Z
URL:https://www.calabasaschamber.com/events/details/business-breakfast-1548
END:VEVENT

END:VCALENDAR
