BEGIN:VCALENDAR
VERSION:2.0
PRODID:-//ChamberMaster//Event Calendar 2.0//EN
METHOD:PUBLISH
X-PUBLISHED-TTL:P3D
REFRESH-INTERVAL:P3D
CALSCALE:GREGORIAN
BEGIN:VEVENT
DTSTART:20200910T020000Z
DTEND:20200910T050000Z
X-MICROSOFT-CDO-ALLDAYEVENT:FALSE
SUMMARY:City Council Virtual Meeting
DESCRIPTION:100 Civic Center Way\, Calabasas\, CA 91302
X-ALT-DESC;FMTTYPE=text/html:100 Civic Center Way\, Calabasas\, CA 91302
LOCATION:www.cityofcalabasas.com
UID:e.2747.5063
SEQUENCE:3
DTSTAMP:20260424T230310Z
URL:https://www.calabasaschamber.com/events/details/city-council-virtual-meeting-5063
END:VEVENT

END:VCALENDAR
