BEGIN:VCALENDAR
VERSION:2.0
PRODID:-//ChamberMaster//Event Calendar 2.0//EN
METHOD:PUBLISH
X-PUBLISHED-TTL:P3D
REFRESH-INTERVAL:P3D
CALSCALE:GREGORIAN
BEGIN:VEVENT
DTSTART:20201013T160000Z
DTEND:20201013T170000Z
X-MICROSOFT-CDO-ALLDAYEVENT:FALSE
SUMMARY:Education Meeting
DESCRIPTION:The Education Committee Supports the education of our future work force by \n\nproviding a link between the business community and local schools to initiate \n\nand promote programs of mutual interest. This committee also awards graduating students from local middle and high schools for scholastic honors\, positive attitude\, academic efforts and community service.
X-ALT-DESC;FMTTYPE=text/html:<br />\n<span><span style="font-family:tahoma\;"><strong>The Education Committee Supports the education of our future work force by&nbsp\;<br />\nproviding a link between the business community and local schools to initiate&nbsp\;<br />\nand promote programs of mutual interest. This committee also awards graduating students from local middle and high schools for scholastic honors\, positive attitude\, academic efforts and community service</strong></span>.</span>
LOCATION:Register Here for the Education Meeting
UID:e.2747.6353
SEQUENCE:3
DTSTAMP:20260420T044837Z
URL:https://www.calabasaschamber.com/events/details/education-meeting-10-13-2020-6353
END:VEVENT

END:VCALENDAR
