BEGIN:VCALENDAR
VERSION:2.0
PRODID:-//ChamberMaster//Event Calendar 2.0//EN
METHOD:PUBLISH
X-PUBLISHED-TTL:P3D
REFRESH-INTERVAL:P3D
CALSCALE:GREGORIAN
BEGIN:VEVENT
DTSTART:20180411T040000Z
DTEND:20180411T050000Z
X-MICROSOFT-CDO-ALLDAYEVENT:FALSE
SUMMARY:Education Meeting
DESCRIPTION:Join us at this month's Education Meeting. The Education Committee supports the education to the future work force by providing a link between the business community and local schools in the initiate and promotes programs of mutual interest. The Education Committee also awards graduation students from local middle and high schools for scholastic honors\, positive attitudes\, academic efforts\, and their contributions to the community.
X-ALT-DESC;FMTTYPE=text/html:<span style="border: none\; margin: 0px\; padding: 0px\; font-size: 14px\; font-family: &quot\;Open Sans&quot\;\, Helvetica\, Arial\, sans-serif\; bottom: auto\; box-sizing: content-box\; clear: none\; color: rgb(75\, 75\, 75)\; content: normal\; direction: inherit\; empty-cells: show\; font-variant-numeric: inherit\; font-stretch: inherit\; left: auto\; line-height: inherit\; max-height: none\; max-width: none\; min-height: initial\; min-width: initial\; opacity: 1\; outline-offset: 0px\; overflow: visible\; position: static\; resize: none\; right: auto\; table-layout: auto\; text-overflow: clip\; top: auto\; vertical-align: baseline\; visibility: inherit\; word-break: inherit\; word-wrap: inherit\; z-index: auto\; background-image: none\; background-position: initial\; background-size: initial\; background-repeat: initial\; background-attachment: initial\; background-origin: initial\; background-clip: initial\; border-collapse: separate\; border-radius: 0px\; height: auto\; width: auto\; box-shadow: none\;">Join us at this month&#39\;s Education Meeting.&nbsp\;</span><span style="border: none\; margin: 0px\; padding: 0px\; font-size: 11pt\; font-family: &quot\;Open Sans&quot\;\, Helvetica\, Arial\, sans-serif\; bottom: auto\; box-sizing: content-box\; clear: none\; color: rgb(75\, 75\, 75)\; content: normal\; direction: inherit\; empty-cells: show\; font-variant-numeric: inherit\; font-stretch: inherit\; left: auto\; line-height: inherit\; max-height: none\; max-width: none\; min-height: initial\; min-width: initial\; opacity: 1\; outline-offset: 0px\; overflow: visible\; position: static\; resize: none\; right: auto\; table-layout: auto\; text-overflow: clip\; top: auto\; vertical-align: baseline\; visibility: inherit\; word-break: inherit\; word-wrap: inherit\; z-index: auto\; background-image: none\; background-position: initial\; background-size: initial\; background-repeat: initial\; background-attachment: initial\; background-origin: initial\; background-clip: initial\; border-collapse: separate\; border-radius: 0px\; height: auto\; width: auto\; box-shadow: none\;">The Education Committee supports the education to the future work force by providing a link between the business community and local schools in the initiate and promotes programs of mutual interest. The Education Committee also awards graduation students from local middle and high schools for scholastic honors\, positive attitudes\, academic efforts\, and their contributions to the community.</span>
LOCATION:Hosted by: Bantu Arts Atelier for Kids 5023 Parkway Calabasas\, 91302
UID:e.2747.1564
SEQUENCE:3
DTSTAMP:20260424T051054Z
URL:https://www.calabasaschamber.com/events/details/education-meeting-1564
END:VEVENT

END:VCALENDAR
