BEGIN:VCALENDAR
VERSION:2.0
PRODID:-//ChamberMaster//Event Calendar 2.0//EN
METHOD:PUBLISH
X-PUBLISHED-TTL:P3D
REFRESH-INTERVAL:P3D
CALSCALE:GREGORIAN
BEGIN:VEVENT
DTSTART;VALUE=DATE:20260525
DTEND;VALUE=DATE:20260526
TRANSP:TRANSPARENT
X-MICROSOFT-CDO-ALLDAYEVENT:TRUE
SUMMARY:Memorial Day-Chamber Office Will Be Closed
DESCRIPTION:The Chamber Office Will Be Closed
X-ALT-DESC;FMTTYPE=text/html:The Chamber Office Will Be Closed<br />\n&nbsp\;
LOCATION:
UID:e.2747.10441
SEQUENCE:3
DTSTAMP:20260424T100226Z
URL:https://www.calabasaschamber.com/events/details/memorial-day-chamber-office-will-be-closed-05-25-2026-10441
END:VEVENT

END:VCALENDAR
